BEGIN:VCALENDAR
VERSION:2.0
PRODID:-//Journey Church International - ECPv6.15.20//NONSGML v1.0//EN
CALSCALE:GREGORIAN
METHOD:PUBLISH
X-WR-CALNAME:Journey Church International
X-ORIGINAL-URL:https://takethejourney.cc
X-WR-CALDESC:Events for Journey Church International
REFRESH-INTERVAL;VALUE=DURATION:PT1H
X-Robots-Tag:noindex
X-PUBLISHED-TTL:PT1H
BEGIN:VTIMEZONE
TZID:America/Chicago
BEGIN:DAYLIGHT
TZOFFSETFROM:-0600
TZOFFSETTO:-0500
TZNAME:CDT
DTSTART:20250309T080000
END:DAYLIGHT
BEGIN:STANDARD
TZOFFSETFROM:-0500
TZOFFSETTO:-0600
TZNAME:CST
DTSTART:20251102T070000
END:STANDARD
BEGIN:DAYLIGHT
TZOFFSETFROM:-0600
TZOFFSETTO:-0500
TZNAME:CDT
DTSTART:20260308T080000
END:DAYLIGHT
BEGIN:STANDARD
TZOFFSETFROM:-0500
TZOFFSETTO:-0600
TZNAME:CST
DTSTART:20261101T070000
END:STANDARD
BEGIN:DAYLIGHT
TZOFFSETFROM:-0600
TZOFFSETTO:-0500
TZNAME:CDT
DTSTART:20270314T080000
END:DAYLIGHT
BEGIN:STANDARD
TZOFFSETFROM:-0500
TZOFFSETTO:-0600
TZNAME:CST
DTSTART:20271107T070000
END:STANDARD
END:VTIMEZONE
BEGIN:VEVENT
DTSTART;TZID=America/Chicago:20260509T170000
DTEND;TZID=America/Chicago:20260509T183000
DTSTAMP:20260420T155330
CREATED:20260325T184708Z
LAST-MODIFIED:20260325T184708Z
UID:10005844-1778346000-1778351400@takethejourney.cc
SUMMARY:Mother's Day 2026
DESCRIPTION:We invite you to celebrate moms\, stepmoms\, grandmas\, and other mother figures in your life at Journey this Mother’s Day weekend! Join us on Saturday\, May 9th at 5:00 P.M. and Sunday\, May 10th at 7:45\, 9:30\, and 11:15 A.M. for Mother’s Day at Journey. We’ll have a special worship experience honoring the women who love us best\, along with photo booths\, gifts\, and more.
URL:https://takethejourney.cc/event/mothers-day-2026/2026-05-09/
LOCATION:Journey Church International\, 1601 SW State Route 150\, Lee's Summit\, MO\, 64082\, United States
CATEGORIES:Church-Wide Events,Special Events
END:VEVENT
BEGIN:VEVENT
DTSTART;TZID=America/Chicago:20260510T073000
DTEND;TZID=America/Chicago:20260510T130000
DTSTAMP:20260420T155330
CREATED:20260325T184708Z
LAST-MODIFIED:20260325T184708Z
UID:10005845-1778398200-1778418000@takethejourney.cc
SUMMARY:Mother's Day 2026
DESCRIPTION:We invite you to celebrate moms\, stepmoms\, grandmas\, and other mother figures in your life at Journey this Mother’s Day weekend! Join us on Saturday\, May 9th at 5:00 P.M. and Sunday\, May 10th at 7:45\, 9:30\, and 11:15 A.M. for Mother’s Day at Journey. We’ll have a special worship experience honoring the women who love us best\, along with photo booths\, gifts\, and more.
URL:https://takethejourney.cc/event/mothers-day-2026/2026-05-10/
LOCATION:Journey Church International\, 1601 SW State Route 150\, Lee's Summit\, MO\, 64082\, United States
CATEGORIES:Church-Wide Events,Special Events
END:VEVENT
END:VCALENDAR